BEGIN:VCALENDAR
VERSION:2.0
PRODID:-//Current Engineering Undergraduates - ECPv6.15.20//NONSGML v1.0//EN
CALSCALE:GREGORIAN
METHOD:PUBLISH
X-ORIGINAL-URL:https://undergrad.engineering.utoronto.ca
X-WR-CALDESC:Events for Current Engineering Undergraduates
REFRESH-INTERVAL;VALUE=DURATION:PT1H
X-Robots-Tag:noindex
X-PUBLISHED-TTL:PT1H
BEGIN:VTIMEZONE
TZID:America/Toronto
BEGIN:DAYLIGHT
TZOFFSETFROM:-0500
TZOFFSETTO:-0400
TZNAME:EDT
DTSTART:20240310T070000
END:DAYLIGHT
BEGIN:STANDARD
TZOFFSETFROM:-0400
TZOFFSETTO:-0500
TZNAME:EST
DTSTART:20241103T060000
END:STANDARD
BEGIN:DAYLIGHT
TZOFFSETFROM:-0500
TZOFFSETTO:-0400
TZNAME:EDT
DTSTART:20250309T070000
END:DAYLIGHT
BEGIN:STANDARD
TZOFFSETFROM:-0400
TZOFFSETTO:-0500
TZNAME:EST
DTSTART:20251102T060000
END:STANDARD
BEGIN:DAYLIGHT
TZOFFSETFROM:-0500
TZOFFSETTO:-0400
TZNAME:EDT
DTSTART:20260308T070000
END:DAYLIGHT
BEGIN:STANDARD
TZOFFSETFROM:-0400
TZOFFSETTO:-0500
TZNAME:EST
DTSTART:20261101T060000
END:STANDARD
END:VTIMEZONE
BEGIN:VEVENT
DTSTART;VALUE=DATE:20251006
DTEND;VALUE=DATE:20251007
DTSTAMP:20260421T162410
CREATED:20250710T164322Z
LAST-MODIFIED:20250916T194043Z
UID:36676-1759708800-1759795199@undergrad.engineering.utoronto.ca
SUMMARY:Accessibility Services: Registration Deadline for Fall Final Exams
DESCRIPTION:For new students who need to register with Accessibility Services for disability-related accommodations\, registration must be completed by October 6\, 2025\, at 5 p.m. in order to have accommodations in place for the 2025 Fall final test/exam period. \nFor more information\, please visit Accessibility Services Registration.
URL:https://undergrad.engineering.utoronto.ca/event/accessibility-services-ats-deadline-for-final-exams/
CATEGORIES:2025 Fall Term
ORGANIZER;CN="Accessibility Services":MAILTO:accessibility.services@utoronto.ca
END:VEVENT
BEGIN:VEVENT
DTSTART;VALUE=DATE:20251007
DTEND;VALUE=DATE:20251010
DTSTAMP:20260421T162410
CREATED:20250915T134906Z
LAST-MODIFIED:20250915T135720Z
UID:37030-1759795200-1760054399@undergrad.engineering.utoronto.ca
SUMMARY:Global Experiences Week 2025
DESCRIPTION:Engineering Global Experiences Week\n\nOctober 7 – 9\, 2025\nAre you looking for ways to incorporate global and international experiences in your undergraduate Engineering studies? Global Experiences Week is happening from October 7 to 9! \nLearn about global courses\, certificate and minor programs\, study and research abroad opportunities\, and work experiences abroad by attending the events and sessions scheduled throughout the week. Join us to learn about all the exciting global opportunities available to undergraduate engineering students! \n  \nSchedule of Events\n\n\n\n\n	Date & TimeEventLocationRegistration\n\n\n\n\n	Tuesday\, October 7th\, 2025\n\n12:30 p.m. to 2:00 p.m.\nLunch & Learn: Why Go Global?\n\nWhat is the value of participating in a global experience? To kickoff Global Experiences Week\, join us to learn what the advantages are to engaging in a global opportunity as an undergraduate student. Hear from the Centre for International Experience\, Summer Abroad\, Centre for Global Engineering\, and Reach Alliance about their global programs and speak to representatives over lunch to learn how you can participate.\n\nPizza lunch will be provided.\nGB202\nGalbraith Building\, Room 202\n\n35 St. George St.\, 2nd floor.\n\nRegister Here\n\n\n	Wednesday\, October 8th\, 2025\n\n1:00 p.m. to 3:00 p.m.\nEngineering Global Experience Expo\n\nLooking to enhance your global fluency and your undergraduate Engineering experience? Learn about the different courses\, certificate programs\, study and research abroad opportunities\, and student organizations you can get involved with by attending the Global Education Expo! \n\nRepresentatives from departments and organizations across U of T will be present\, including the Centre for Global Engineering\, Centre for International Experience\, Summer Abroad\, Reach Alliance\, and more! Bahen Atrium\n\n40 St. George St.\, 2nd floor.\n\nRegistration is not required.\n\nDrop in anytime between 1:00 p.m. to 3:00 p.m.!\n\n\n	Wednesday\, October 8th\, 2025\n\n6:00 p.m. to 7:30 p.m.\nInternational PEY Co-op Work Terms: A Student Panel Discussion\n\nAs part of Global Experiences Week\, connect with your PEY Co-op network to obtain insights from panel speakers who have recently completed a PEY Co-op work term abroad. In this student panel discussion\, your peers will share information about their international work experiences\, and how to apply your own goals and job search strategy internationally. \n\nRefreshments will be provided.\nGB202\nGalbraith Building\, Room 202\n\n35 St. George St.\, 2nd floor.\nRegister Here\n\n\n	Thursday\, October 9th\, 2025\n\n6:00 p.m. to 7:30 p.m.\nLet's Talk Course Exchange: Information Session\n\nTo wrap up Global Experiences Week\, join this information session to hear more about course exchange at U of T Engineering! Learn how you can study abroad while staying on track with your degree\, explore partner universities\, discover funding opportunities\, and get tips on planning your application. Whether you're curious or ready to apply\, this session will give you all the tools you need!\n\nRefreshments will be provided.\nGB202\nGalbraith Building\, Room 202\n\n35 St. George St.\, 2nd floor.\nRegister Here\n\n\n\n\nIf you have any questions\, please email goglobal@engineering.utoronto.ca. \n 
URL:https://undergrad.engineering.utoronto.ca/event/global-experiences-week-2025/
LOCATION:Multiple Locations
ORGANIZER;CN="Experiential Learning Coordinator%2C Undergraduate Research & Global Opportunities":MAILTO:URIE@engineering.utoronto.ca
END:VEVENT
BEGIN:VEVENT
DTSTART;TZID=America/Toronto:20251008T120000
DTEND;TZID=America/Toronto:20251008T130000
DTSTAMP:20260421T162410
CREATED:20250902T173954Z
LAST-MODIFIED:20250925T144922Z
UID:36924-1759924800-1759928400@undergrad.engineering.utoronto.ca
SUMMARY:TAP For Success: Refocus Checkpoint (For Returning PEY Co-op Students)
DESCRIPTION:Workshop 3: Refocus – TAP for Success Checkpoint\n\nShared Success Strategies + Reflect + Refocus\nDate: Wednesday\, October 8\, 2025\nTime: 12:00 – 1:00 pm\nFormat: In-person\nRegistration: https://forms.office.com/r/vNgQdPqsvS \nObjectives:\n\nBuild peer accountability and reduce isolation\nIdentify what’s working and where adjustments are needed\nReconnect with their academic goals and long-term motivation\nFoster peer connections for continued support and accountability\n\nTakeaway:\n\nAvailable services\nReflection\nOne-on-one follow-ups with Learning Strategist (optional)
URL:https://undergrad.engineering.utoronto.ca/event/tap-for-success-refocus-checkpoint-for-returning-pey-co-op-students/
LOCATION:In-Person
END:VEVENT
BEGIN:VEVENT
DTSTART;TZID=America/Toronto:20251009T120000
DTEND;TZID=America/Toronto:20251009T130000
DTSTAMP:20260421T162410
CREATED:20250924T211529Z
LAST-MODIFIED:20250924T211529Z
UID:37107-1760011200-1760014800@undergrad.engineering.utoronto.ca
SUMMARY:Therapy Dog Visit
DESCRIPTION:Therapy dog wearing a jacket!\nJoin the First Year Office staff and your classmates to de-stress with a visit from our furry friends at Sunshine Therapy Dogs Toronto! \nDate & Time: Thursday\, October 9\, 2025 from 12-1 p.m. \nLocation: First Year Office (Fields Institute\, room 106\, 222 College St.) \nCost & registration: Free. Drop-in\, no registration required.
URL:https://undergrad.engineering.utoronto.ca/event/therapy-dog-visit/
LOCATION:Fields Institute\, 222 College St\, Toronto
CATEGORIES:2025 Fall Term
ORGANIZER;CN="First Year Office":MAILTO:firstyear@engineering.utoronto.ca
END:VEVENT
BEGIN:VEVENT
DTSTART;VALUE=DATE:20251013
DTEND;VALUE=DATE:20251014
DTSTAMP:20260421T162410
CREATED:20250710T155713Z
LAST-MODIFIED:20250710T155713Z
UID:36656-1760313600-1760399999@undergrad.engineering.utoronto.ca
SUMMARY:Thanksgiving Day: University Closed
DESCRIPTION:The university will be closed on October 13\, 2025\, for Thanksgiving Day. \nFor the complete list of sessional dates\, visit the Engineering Academic Calendar.
URL:https://undergrad.engineering.utoronto.ca/event/thanksgiving-day-university-closed-2/
CATEGORIES:2025 Fall Term
END:VEVENT
BEGIN:VEVENT
DTSTART;TZID=America/Toronto:20251017T173000
DTEND;TZID=America/Toronto:20251017T203000
DTSTAMP:20260421T162410
CREATED:20250908T184949Z
LAST-MODIFIED:20250908T185051Z
UID:36988-1760722200-1760733000@undergrad.engineering.utoronto.ca
SUMMARY:Varsity Game Night with Dean Yip
DESCRIPTION:Would you like to take a break from studying? Come out to cheer on the Engineering student-athletes! Dean Yip invites you to a night of fun as the Engineering community comes together to support the Varsity Double-header Basketball games. See our women’s and men’s teams in action at the Goldring Centre.  \nEvent Details\nDate: Friday\, October 17\, 2025\nTime: 5:30 p.m.\n\nLocation: Meet at the Galbraith Lobby to walk over with our Blues rep! \nFree pizza will be provided to all attendees\, so be sure to register!
URL:https://undergrad.engineering.utoronto.ca/event/varsity-game-night-with-dean-yip/
LOCATION:Meet at the Galbraith Lobby\, 35 St. George St\, Toronto
END:VEVENT
BEGIN:VEVENT
DTSTART;TZID=America/Toronto:20251022T113000
DTEND;TZID=America/Toronto:20251022T133000
DTSTAMP:20260421T162410
CREATED:20250902T160333Z
LAST-MODIFIED:20250915T143847Z
UID:36899-1761132600-1761139800@undergrad.engineering.utoronto.ca
SUMMARY:Wellness Wednesdays at Myhal
DESCRIPTION:Drop by Myhal to meet the student services that support your well-being at U of T! Each month\, we will have different partners join to present their services and how their work can help support your wellness and success as an Engineering student. Come to grab a snack and have a chat! \nEvent Schedule:\nDate: Wednesday\, October 22\, 2025\nTime: 11:30 a.m. – 1:30 p.m.\nLocation: Myhal Lobby \nAt the October Wellness Wednesday\, the following partners will be in attendance: Health & Wellness On-Location Counsellor and Health & Wellness Peer Support Team. \nMonthly Sessions:\n\nWednesday\, September 24 (Accessibility Services\, FASE Learning Strategist and engSuccess Peer Mentors)\nWednesday\, October 22 (Health & Wellness On-Location Counsellor\, Health & Wellness Peer Support Team)\nWednesday\, November 26 (Partners to be confirmed)
URL:https://undergrad.engineering.utoronto.ca/event/wellness-wednesdays-at-myhal-2/
LOCATION:Myhal Lobby\, 55 St George St\, Toronto
ORGANIZER;CN="Student & Community Wellness Coordinator":MAILTO:wellness@engineering.utoronto.ca
END:VEVENT
BEGIN:VEVENT
DTSTART;VALUE=DATE:20251027
DTEND;VALUE=DATE:20251028
DTSTAMP:20260421T162410
CREATED:20250710T155947Z
LAST-MODIFIED:20250710T155947Z
UID:36658-1761523200-1761609599@undergrad.engineering.utoronto.ca
SUMMARY:PEY Co-op: Career Portal Postings Open for Summer Work Terms
DESCRIPTION:PEY Co-op Program: Career Portal with Summer 2026 job postings opens to qualified students seeking Summer Co-op Work Terms. Interviews\, job offers and acceptances begin shortly after. \nFor more information about PEY Co-op\, visit the Engineering Career Centre (ECC).
URL:https://undergrad.engineering.utoronto.ca/event/pey-co-op-career-portal-postings-open-for-summer-work-terms/
CATEGORIES:2025 Fall Term
END:VEVENT
BEGIN:VEVENT
DTSTART;VALUE=DATE:20251027
DTEND;VALUE=DATE:20251103
DTSTAMP:20260421T162410
CREATED:20250710T160648Z
LAST-MODIFIED:20250710T160648Z
UID:36661-1761523200-1762127999@undergrad.engineering.utoronto.ca
SUMMARY:Fall Study Break
DESCRIPTION:2025 Fall Study Break is from October 27 to November 2. \nIn Engineering courses\, no assessments may be scheduled nor assignments made due between Monday and the following Sunday of the study break week\, inclusive of those dates. This does not prevent the Faculty from scheduling deferred exams during the break. Accommodations made by an instructor to an individual student as the result of a term-work petition or from accessibility services are also allowed during these days. \nFor the complete list of sessional dates\, visit the Engineering Academic Calendar.
URL:https://undergrad.engineering.utoronto.ca/event/fall-study-break/
CATEGORIES:2025 Fall Term
END:VEVENT
BEGIN:VEVENT
DTSTART;VALUE=DATE:20251030
DTEND;VALUE=DATE:20251031
DTSTAMP:20260421T162410
CREATED:20250905T165220Z
LAST-MODIFIED:20250905T165220Z
UID:36961-1761782400-1761868799@undergrad.engineering.utoronto.ca
SUMMARY:2025 Fall Convocation Ceremony
DESCRIPTION:The 2025 Fall Convocation ceremony for the Faculty of Applied Science & Engineering will be held on October 30\, 2025. Congratulations to all graduating students! \nVisit the Convocation Office for further details.
URL:https://undergrad.engineering.utoronto.ca/event/2025-fall-convocation-ceremony/
END:VEVENT
BEGIN:VEVENT
DTSTART;VALUE=DATE:20251031
DTEND;VALUE=DATE:20251101
DTSTAMP:20260421T162410
CREATED:20250710T160833Z
LAST-MODIFIED:20250710T160833Z
UID:36664-1761868800-1761955199@undergrad.engineering.utoronto.ca
SUMMARY:Fall Term Exam Schedule Posted
DESCRIPTION:The 2025 Fall Term final exam schedule will be posted on October 31\, 2025. \nStudents can find details on the Engineering Exam Schedules\, Locations & Information page. \nFor the complete list of sessional dates\, visit the Engineering Academic Calendar.
URL:https://undergrad.engineering.utoronto.ca/event/fall-term-exam-schedule-posted/
CATEGORIES:2025 Fall Term
END:VEVENT
END:VCALENDAR