BEGIN:VCALENDAR
VERSION:2.0
PRODID:-//Current Engineering Undergraduates - ECPv6.15.20//NONSGML v1.0//EN
CALSCALE:GREGORIAN
METHOD:PUBLISH
X-ORIGINAL-URL:https://undergrad.engineering.utoronto.ca
X-WR-CALDESC:Events for Current Engineering Undergraduates
REFRESH-INTERVAL;VALUE=DURATION:PT1H
X-Robots-Tag:noindex
X-PUBLISHED-TTL:PT1H
BEGIN:VTIMEZONE
TZID:America/Toronto
BEGIN:DAYLIGHT
TZOFFSETFROM:-0500
TZOFFSETTO:-0400
TZNAME:EDT
DTSTART:20250309T070000
END:DAYLIGHT
BEGIN:STANDARD
TZOFFSETFROM:-0400
TZOFFSETTO:-0500
TZNAME:EST
DTSTART:20251102T060000
END:STANDARD
BEGIN:DAYLIGHT
TZOFFSETFROM:-0500
TZOFFSETTO:-0400
TZNAME:EDT
DTSTART:20260308T070000
END:DAYLIGHT
BEGIN:STANDARD
TZOFFSETFROM:-0400
TZOFFSETTO:-0500
TZNAME:EST
DTSTART:20261101T060000
END:STANDARD
BEGIN:DAYLIGHT
TZOFFSETFROM:-0500
TZOFFSETTO:-0400
TZNAME:EDT
DTSTART:20270314T070000
END:DAYLIGHT
BEGIN:STANDARD
TZOFFSETFROM:-0400
TZOFFSETTO:-0500
TZNAME:EST
DTSTART:20271107T060000
END:STANDARD
END:VTIMEZONE
BEGIN:VEVENT
DTSTART;VALUE=DATE:20260216
DTEND;VALUE=DATE:20260217
DTSTAMP:20260423T051618
CREATED:20251216T135912Z
LAST-MODIFIED:20251216T140033Z
UID:37350-1771200000-1771286399@undergrad.engineering.utoronto.ca
SUMMARY:Last Day to Drop Full-Year Courses Without Academic Penalty
DESCRIPTION:February 16\, 2026\, is the last day students can drop Full Year (Y-Term) courses without academic penalty. \nNotes: \n\nPlease be aware that a student taking a Y-term course will not be allowed to drop this course in the Winter Term if a recalculation of their Fall Term load shows that dropping the course will reduce the F-term course load to fewer than 2.5 credits.\nThe last date to cancel a course or cancel your registration in a session with no academic penalty may not always coincide with the last date that you are eligible for a refund. Review the refund schedules for applicable dates and deadlines: studentaccount.utoronto.ca.\n\nFor the complete list of sessional dates\, visit the Engineering Academic Calendar.
URL:https://undergrad.engineering.utoronto.ca/event/last-day-to-drop-full-year-courses-without-academic-penalty-3/
CATEGORIES:2026 Winter Term
END:VEVENT
BEGIN:VEVENT
DTSTART;VALUE=DATE:20260216
DTEND;VALUE=DATE:20260217
DTSTAMP:20260423T051618
CREATED:20251216T140320Z
LAST-MODIFIED:20251216T140320Z
UID:37354-1771200000-1771286399@undergrad.engineering.utoronto.ca
SUMMARY:Deadline to Change Full-Year "For Credit" Course to "Extra"
DESCRIPTION:February 16\, 2026\, is the deadline to change a for credit Y-term course to an “Extra” course. \nFor the complete list of sessional dates\, visit the Engineering Academic Calendar.
URL:https://undergrad.engineering.utoronto.ca/event/deadline-to-change-full-year-for-credit-course-to-extra/
CATEGORIES:2026 Winter Term
END:VEVENT
BEGIN:VEVENT
DTSTART;VALUE=DATE:20260216
DTEND;VALUE=DATE:20260217
DTSTAMP:20260423T051618
CREATED:20251216T140526Z
LAST-MODIFIED:20251216T140526Z
UID:37358-1771200000-1771286399@undergrad.engineering.utoronto.ca
SUMMARY:Family Day Holiday: University Closed
DESCRIPTION:The university will be closed on February 16\, 2026\, for the Family Day Holiday. \nFor the complete list of sessional dates\, visit the Engineering Academic Calendar.
URL:https://undergrad.engineering.utoronto.ca/event/family-day-holiday-university-closed-3/
CATEGORIES:2026 Winter Term
END:VEVENT
BEGIN:VEVENT
DTSTART;VALUE=DATE:20260216
DTEND;VALUE=DATE:20260221
DTSTAMP:20260423T051618
CREATED:20251216T140834Z
LAST-MODIFIED:20251216T140834Z
UID:37363-1771200000-1771631999@undergrad.engineering.utoronto.ca
SUMMARY:Reserved for Special Deferred Exams
DESCRIPTION:February 16 to 20\, 2026\, is reserved for special deferred exams from the December 2025 examination period. \nFor the complete list of sessional dates\, visit the Engineering Academic Calendar.
URL:https://undergrad.engineering.utoronto.ca/event/reserved-for-special-deferred-exams/
CATEGORIES:2026 Winter Term
END:VEVENT
BEGIN:VEVENT
DTSTART;VALUE=DATE:20260216
DTEND;VALUE=DATE:20260223
DTSTAMP:20260423T051618
CREATED:20251216T140719Z
LAST-MODIFIED:20251216T140917Z
UID:37361-1771200000-1771804799@undergrad.engineering.utoronto.ca
SUMMARY:Engineering Study Break
DESCRIPTION:Winter Study Break: February 16 – 22\, 2026 \nNo classes will take place during the Study Break week. In Engineering courses\, no assessments may be scheduled nor assignments due between Monday and the following Sunday of the study break week\, inclusive of those dates. This does not prevent the Faculty from scheduling deferred exams during the break. Accommodations made by an instructor to an individual student as a result of a term-work petition or from accessibility services are also allowed during these days. \nFor the complete list of sessional dates\, visit the Engineering Academic Calendar.
URL:https://undergrad.engineering.utoronto.ca/event/engineering-study-break/
CATEGORIES:2026 Winter Term
END:VEVENT
BEGIN:VEVENT
DTSTART;VALUE=DATE:20260227
DTEND;VALUE=DATE:20260228
DTSTAMP:20260423T051618
CREATED:20251216T141134Z
LAST-MODIFIED:20251216T141134Z
UID:37367-1772150400-1772236799@undergrad.engineering.utoronto.ca
SUMMARY:Winter Term Final Exam Schedule is Published
DESCRIPTION:The final exam schedule for the Winter Term and Full-Year courses will be tentatively posted on February 27\, 2026. Students may view their schedule on the faculty website and on ACORN. \nFor the complete list of sessional dates\, visit the Engineering Academic Calendar.
URL:https://undergrad.engineering.utoronto.ca/event/winter-term-final-exam-schedule-is-published/
CATEGORIES:2026 Winter Term
END:VEVENT
END:VCALENDAR