BEGIN:VCALENDAR
VERSION:2.0
PRODID:-//Current Engineering Undergraduates - ECPv6.15.20//NONSGML v1.0//EN
CALSCALE:GREGORIAN
METHOD:PUBLISH
X-WR-CALNAME:Current Engineering Undergraduates
X-ORIGINAL-URL:https://undergrad.engineering.utoronto.ca
X-WR-CALDESC:Events for Current Engineering Undergraduates
REFRESH-INTERVAL;VALUE=DURATION:PT1H
X-Robots-Tag:noindex
X-PUBLISHED-TTL:PT1H
BEGIN:VTIMEZONE
TZID:America/Toronto
BEGIN:DAYLIGHT
TZOFFSETFROM:-0500
TZOFFSETTO:-0400
TZNAME:EDT
DTSTART:20240310T070000
END:DAYLIGHT
BEGIN:STANDARD
TZOFFSETFROM:-0400
TZOFFSETTO:-0500
TZNAME:EST
DTSTART:20241103T060000
END:STANDARD
BEGIN:DAYLIGHT
TZOFFSETFROM:-0500
TZOFFSETTO:-0400
TZNAME:EDT
DTSTART:20250309T070000
END:DAYLIGHT
BEGIN:STANDARD
TZOFFSETFROM:-0400
TZOFFSETTO:-0500
TZNAME:EST
DTSTART:20251102T060000
END:STANDARD
BEGIN:DAYLIGHT
TZOFFSETFROM:-0500
TZOFFSETTO:-0400
TZNAME:EDT
DTSTART:20260308T070000
END:DAYLIGHT
BEGIN:STANDARD
TZOFFSETFROM:-0400
TZOFFSETTO:-0500
TZNAME:EST
DTSTART:20261101T060000
END:STANDARD
END:VTIMEZONE
BEGIN:VEVENT
DTSTART;VALUE=DATE:20250217
DTEND;VALUE=DATE:20250218
DTSTAMP:20260422T013805
CREATED:20241213T161054Z
LAST-MODIFIED:20241213T161054Z
UID:35384-1739750400-1739836799@undergrad.engineering.utoronto.ca
SUMMARY:Family Day Holiday: University Closed
DESCRIPTION:The university will be closed on February 17\, 2025\, for the Family Day Holiday. We wish students a wonderful long weeked! \nFor the complete list of sessional dates\, visit the Engineering Academic Calendar.
URL:https://undergrad.engineering.utoronto.ca/event/family-day-holiday-university-closed-2/
CATEGORIES:2025 Winter Term
END:VEVENT
BEGIN:VEVENT
DTSTART;VALUE=DATE:20250214
DTEND;VALUE=DATE:20250215
DTSTAMP:20260422T013805
CREATED:20241213T160926Z
LAST-MODIFIED:20241213T160926Z
UID:35381-1739491200-1739577599@undergrad.engineering.utoronto.ca
SUMMARY:Deadline to Change Full-Year Course to "Extra"
DESCRIPTION:February 14\, 2025\, is the deadline to change a for credit Full-Year (Y-Term) course to an “Extra” course.  For more information\, visit Taking “Extra” Courses. \nFor the complete list of sessional dates\, visit the Engineering Academic Calendar.
URL:https://undergrad.engineering.utoronto.ca/event/deadline-to-change-full-year-course-to-extra/
CATEGORIES:2025 Winter Term
END:VEVENT
BEGIN:VEVENT
DTSTART;VALUE=DATE:20250214
DTEND;VALUE=DATE:20250215
DTSTAMP:20260422T013805
CREATED:20241213T160119Z
LAST-MODIFIED:20241213T160119Z
UID:35378-1739491200-1739577599@undergrad.engineering.utoronto.ca
SUMMARY:Last Day to Drop Full-Year Courses Without Academic Penalty
DESCRIPTION:February 14\, 2025\, is the last day students can drop Full-Year (Y-Term) courses without academic penalty. \nNotes: \n\nStudents taking a Y-term course will not be allowed to drop this course in the Winter Term if a recalculation of their Fall Term load shows that dropping the course will reduce the F-term course load to fewer than 2.5 credits.\nThe last date to cancel a course or cancel your registration in a session with no academic penalty may not always coincide with the last date that you are eligible for a refund. Review the refund schedules for applicable dates and deadlines: studentaccount.utoronto.ca.\n\nFor the complete list of sessional dates\, visit the Engineering Academic Calendar.
URL:https://undergrad.engineering.utoronto.ca/event/last-day-to-drop-full-year-courses-without-academic-penalty-2/
CATEGORIES:2025 Winter Term
END:VEVENT
BEGIN:VEVENT
DTSTART;VALUE=DATE:20250119
DTEND;VALUE=DATE:20250120
DTSTAMP:20260422T013805
CREATED:20241213T155808Z
LAST-MODIFIED:20241213T155808Z
UID:35376-1737244800-1737331199@undergrad.engineering.utoronto.ca
SUMMARY:PEY Co-op Program: Last Day for Year 2 Students to Enrol
DESCRIPTION:January 19\, 2025\, is the last day for second year students to enrol in the PEY Co-op Program. More information can be found on the Engineering Career Centre (ECC) website. \nFor the complete list of sessional dates\, visit the Engineering Academic Calendar.
URL:https://undergrad.engineering.utoronto.ca/event/pey-co-op-program-last-day-for-year-2-students-to-enrol/
CATEGORIES:2025 Winter Term
END:VEVENT
BEGIN:VEVENT
DTSTART;VALUE=DATE:20250119
DTEND;VALUE=DATE:20250120
DTSTAMP:20260422T013805
CREATED:20241213T154910Z
LAST-MODIFIED:20241213T154910Z
UID:35374-1737244800-1737331199@undergrad.engineering.utoronto.ca
SUMMARY:Deadline to Change "Extra" Course to "For-Credit"
DESCRIPTION:January 19\, 2025\, is the last day that students can change a course designated as “Extra” to be a for-credit course. For more information\, visit Taking “Extra” Courses. \nFor the complete list of sessional dates\, visit the Engineering Academic Calendar.
URL:https://undergrad.engineering.utoronto.ca/event/deadline-to-change-extra-course-to-for-credit-2/
CATEGORIES:2025 Winter Term
END:VEVENT
BEGIN:VEVENT
DTSTART;VALUE=DATE:20250119
DTEND;VALUE=DATE:20250120
DTSTAMP:20260422T013805
CREATED:20241213T153418Z
LAST-MODIFIED:20241213T153805Z
UID:35372-1737244800-1737331199@undergrad.engineering.utoronto.ca
SUMMARY:Deadline to Add or Substitute Winter Term Courses
DESCRIPTION:January 19\, 2025\, is the last day students can add or substitute Winter Term courses on ACORN. For guidance on course selection\, please reach out your Academic Advisor. \nFor the complete list of sessional dates\, visit the Engineering Academic Calendar.
URL:https://undergrad.engineering.utoronto.ca/event/deadline-to-add-or-substitute-winter-term-courses/
CATEGORIES:2025 Winter Term
END:VEVENT
BEGIN:VEVENT
DTSTART;VALUE=DATE:20250114
DTEND;VALUE=DATE:20250115
DTSTAMP:20260422T013805
CREATED:20241213T152603Z
LAST-MODIFIED:20241213T152603Z
UID:35370-1736812800-1736899199@undergrad.engineering.utoronto.ca
SUMMARY:Last Day to Waitlist Winter Term Courses
DESCRIPTION:January 14\, 2025\, is the last day students can waitlist Winter Term courses. \nFor the complete list of sessional dates\, visit the Engineering Academic Calendar.
URL:https://undergrad.engineering.utoronto.ca/event/last-day-to-waitlist-winter-term-courses/
CATEGORIES:2025 Winter Term
END:VEVENT
BEGIN:VEVENT
DTSTART;VALUE=DATE:20250113
DTEND;VALUE=DATE:20250114
DTSTAMP:20260422T013805
CREATED:20241213T152453Z
LAST-MODIFIED:20241213T152453Z
UID:35368-1736726400-1736812799@undergrad.engineering.utoronto.ca
SUMMARY:T-Program Lectures Begin
DESCRIPTION:Lectures for T-Program courses begin on January 13\, 2025. For any questions about the T-Program\, contact the First Year Office. \nFor the complete list of sessional dates\, visit the Engineering Academic Calendar.
URL:https://undergrad.engineering.utoronto.ca/event/t-program-lectures-begin-2/
CATEGORIES:2025 Winter Term
END:VEVENT
BEGIN:VEVENT
DTSTART;VALUE=DATE:20250113
DTEND;VALUE=DATE:20250114
DTSTAMP:20260422T013805
CREATED:20241213T152301Z
LAST-MODIFIED:20241213T152301Z
UID:35366-1736726400-1736812799@undergrad.engineering.utoronto.ca
SUMMARY:Last Day EngSci (First Years) Can Transfer to Another Engineering Program
DESCRIPTION:January 13\, 2025\, is the last day students can transfer out of Engineering Science (first-year students) to Track One or a Core 8 engineering program. \nFor the complete list of sessional dates\, visit the Engineering Academic Calendar.
URL:https://undergrad.engineering.utoronto.ca/event/last-day-engsci-first-years-can-transfer-to-another-engineering-program/
CATEGORIES:2025 Winter Term
END:VEVENT
BEGIN:VEVENT
DTSTART;VALUE=DATE:20250106
DTEND;VALUE=DATE:20250107
DTSTAMP:20260422T013805
CREATED:20240909T133909Z
LAST-MODIFIED:20240909T133909Z
UID:34662-1736121600-1736207999@undergrad.engineering.utoronto.ca
SUMMARY:Winter Term Classes Begin
DESCRIPTION:Welcome back from the Winter Break! Lectures for the U of T Engineering and Arts & Science S-term courses begin and Y-term courses resume on January 6\, 2025. \nFor the complete list of sessional dates\, visit the Engineering Academic Calendar.
URL:https://undergrad.engineering.utoronto.ca/event/winter-term-classes-begin/
CATEGORIES:2025 Winter Term
END:VEVENT
END:VCALENDAR