BEGIN:VCALENDAR
VERSION:2.0
PRODID:-//Current Engineering Undergraduates - ECPv6.15.20//NONSGML v1.0//EN
CALSCALE:GREGORIAN
METHOD:PUBLISH
X-WR-CALNAME:Current Engineering Undergraduates
X-ORIGINAL-URL:https://undergrad.engineering.utoronto.ca
X-WR-CALDESC:Events for Current Engineering Undergraduates
REFRESH-INTERVAL;VALUE=DURATION:PT1H
X-Robots-Tag:noindex
X-PUBLISHED-TTL:PT1H
BEGIN:VTIMEZONE
TZID:America/Toronto
BEGIN:DAYLIGHT
TZOFFSETFROM:-0500
TZOFFSETTO:-0400
TZNAME:EDT
DTSTART:20240310T070000
END:DAYLIGHT
BEGIN:STANDARD
TZOFFSETFROM:-0400
TZOFFSETTO:-0500
TZNAME:EST
DTSTART:20241103T060000
END:STANDARD
BEGIN:DAYLIGHT
TZOFFSETFROM:-0500
TZOFFSETTO:-0400
TZNAME:EDT
DTSTART:20250309T070000
END:DAYLIGHT
BEGIN:STANDARD
TZOFFSETFROM:-0400
TZOFFSETTO:-0500
TZNAME:EST
DTSTART:20251102T060000
END:STANDARD
BEGIN:DAYLIGHT
TZOFFSETFROM:-0500
TZOFFSETTO:-0400
TZNAME:EDT
DTSTART:20260308T070000
END:DAYLIGHT
BEGIN:STANDARD
TZOFFSETFROM:-0400
TZOFFSETTO:-0500
TZNAME:EST
DTSTART:20261101T060000
END:STANDARD
END:VTIMEZONE
BEGIN:VEVENT
DTSTART;VALUE=DATE:20251205
DTEND;VALUE=DATE:20251220
DTSTAMP:20260419T190946
CREATED:20250710T161124Z
LAST-MODIFIED:20251002T122039Z
UID:36666-1764892800-1766188799@undergrad.engineering.utoronto.ca
SUMMARY:2025 Fall Term Final Exam Period
DESCRIPTION:The 2025 Fall Term exam period is scheduled from December 5 to December 19. We wish students all the best during their final exams! \n\nFinal exams for F-term U of T Engineering courses. (The Faculty will hold exams on Saturdays\, Sundays and evenings during this period).\nFinal exams for F-term Arts & Science courses and midterms for Y-term Arts & Science courses.\n\nStudents can find details on the Engineering Exam Schedules\, Locations & Information page. \nFor the complete list of sessional dates\, visit the Engineering Academic Calendar.
URL:https://undergrad.engineering.utoronto.ca/event/2025-fall-term-final-exam-period/
CATEGORIES:2025 Fall Term
END:VEVENT
END:VCALENDAR