BEGIN:VCALENDAR
VERSION:2.0
PRODID:-//Current Engineering Undergraduates - ECPv6.15.20//NONSGML v1.0//EN
CALSCALE:GREGORIAN
METHOD:PUBLISH
X-ORIGINAL-URL:https://undergrad.engineering.utoronto.ca
X-WR-CALDESC:Events for Current Engineering Undergraduates
REFRESH-INTERVAL;VALUE=DURATION:PT1H
X-Robots-Tag:noindex
X-PUBLISHED-TTL:PT1H
BEGIN:VTIMEZONE
TZID:America/Toronto
BEGIN:DAYLIGHT
TZOFFSETFROM:-0500
TZOFFSETTO:-0400
TZNAME:EDT
DTSTART:20240310T070000
END:DAYLIGHT
BEGIN:STANDARD
TZOFFSETFROM:-0400
TZOFFSETTO:-0500
TZNAME:EST
DTSTART:20241103T060000
END:STANDARD
BEGIN:DAYLIGHT
TZOFFSETFROM:-0500
TZOFFSETTO:-0400
TZNAME:EDT
DTSTART:20250309T070000
END:DAYLIGHT
BEGIN:STANDARD
TZOFFSETFROM:-0400
TZOFFSETTO:-0500
TZNAME:EST
DTSTART:20251102T060000
END:STANDARD
BEGIN:DAYLIGHT
TZOFFSETFROM:-0500
TZOFFSETTO:-0400
TZNAME:EDT
DTSTART:20260308T070000
END:DAYLIGHT
BEGIN:STANDARD
TZOFFSETFROM:-0400
TZOFFSETTO:-0500
TZNAME:EST
DTSTART:20261101T060000
END:STANDARD
END:VTIMEZONE
BEGIN:VEVENT
DTSTART;VALUE=DATE:20250818
DTEND;VALUE=DATE:20250820
DTSTAMP:20260421T080058
CREATED:20250613T201105Z
LAST-MODIFIED:20250613T201105Z
UID:36289-1755475200-1755647999@undergrad.engineering.utoronto.ca
SUMMARY:Accessibility Services Orientation
DESCRIPTION:Accessibility Services Orientation for Undergraduate Students\nTwo-day event that provides a more in-depth overview of Accessibility Services\, accommodations\, and tips to prepare students for post-secondary learning\, including an in-person campus tour\, social opportunities\, presentations from campus support services\, as well as lunch!  Students are encouraged to join in person. \nRegister to attend on Folio! \nDay One: Accessibility Foundations (Hybrid)\n\nHow to register with Accessibility Services\nDebunk common myths regarding academic accommodations\nMeet an Accessibility Advisor\nExplore adaptive technology\nParticipate in a learning strategy workshop\nHear from a Peer\n\nDay Two: Campus Resources (In-Person)\nJoin for a campus tour\, exploring Robarts Library\, Accommodated Testing Services\, Hart House\, and the Athletic Centre. Stops include a resource fair and a game of seated volleyball. \nLunch is provided both days. For access to a full schedule\, email as.learning@utoronto.ca.
URL:https://undergrad.engineering.utoronto.ca/event/accessibility-services-orientation/
ORGANIZER;CN="Accessibility Services":MAILTO:accessibility.services@utoronto.ca
END:VEVENT
BEGIN:VEVENT
DTSTART;VALUE=DATE:20250819
DTEND;VALUE=DATE:20250823
DTSTAMP:20260421T080058
CREATED:20250610T191749Z
LAST-MODIFIED:20250610T191749Z
UID:36270-1755561600-1755907199@undergrad.engineering.utoronto.ca
SUMMARY:Summer Y-Term & S-Term Exam Period
DESCRIPTION:The Summer Y-Term and S-Term final exam period will be held between August 19 and August 22\, 2025. Students may find the exam schedules available on the Exam Schedules\, Locations & Information page. \nFor the complete list of sessional dates\, visit the Engineering Academic Calendar.
URL:https://undergrad.engineering.utoronto.ca/event/summer-y-term-s-term-exam-period/
CATEGORIES:2025 Summer Term
END:VEVENT
BEGIN:VEVENT
DTSTART;TZID=America/Toronto:20250819T090000
DTEND;TZID=America/Toronto:20250819T103000
DTSTAMP:20260421T080058
CREATED:20250709T155059Z
LAST-MODIFIED:20250709T155059Z
UID:36609-1755594000-1755599400@undergrad.engineering.utoronto.ca
SUMMARY:University Prep: How do I Study? Effective Practices for Learning
DESCRIPTION:University Prep Micro-Course (August 12-14\, 19-21)  \nDiscover what learning is really like at U of T with the Centre of Learning Strategy Support team. Whether you’re curious\, nervous\, or just excited to start\, get ready for learning at U of T! The University Prep Micro-Courses cover university preparation topics in three 90-minute virtual modules. You can choose between evening or morning sections: \nModule 1: How do I Study? Effective Practices for Learning  \n\nTuesday\, August 12\, 2025\, at 7 – 8:30 p.m.\nTuesday\, August 19\, 2025\, at 9 – 10:30 a.m.\n\nRegister: https://uoft.me/universityprep
URL:https://undergrad.engineering.utoronto.ca/event/university-prep-how-do-i-study-effective-practices-for-learning-2/
LOCATION:Online
END:VEVENT
END:VCALENDAR