BEGIN:VCALENDAR
VERSION:2.0
PRODID:-//Current Engineering Undergraduates - ECPv6.15.20//NONSGML v1.0//EN
CALSCALE:GREGORIAN
METHOD:PUBLISH
X-WR-CALNAME:Current Engineering Undergraduates
X-ORIGINAL-URL:https://undergrad.engineering.utoronto.ca
X-WR-CALDESC:Events for Current Engineering Undergraduates
REFRESH-INTERVAL;VALUE=DURATION:PT1H
X-Robots-Tag:noindex
X-PUBLISHED-TTL:PT1H
BEGIN:VTIMEZONE
TZID:America/Toronto
BEGIN:DAYLIGHT
TZOFFSETFROM:-0500
TZOFFSETTO:-0400
TZNAME:EDT
DTSTART:20240310T070000
END:DAYLIGHT
BEGIN:STANDARD
TZOFFSETFROM:-0400
TZOFFSETTO:-0500
TZNAME:EST
DTSTART:20241103T060000
END:STANDARD
BEGIN:DAYLIGHT
TZOFFSETFROM:-0500
TZOFFSETTO:-0400
TZNAME:EDT
DTSTART:20250309T070000
END:DAYLIGHT
BEGIN:STANDARD
TZOFFSETFROM:-0400
TZOFFSETTO:-0500
TZNAME:EST
DTSTART:20251102T060000
END:STANDARD
BEGIN:DAYLIGHT
TZOFFSETFROM:-0500
TZOFFSETTO:-0400
TZNAME:EDT
DTSTART:20260308T070000
END:DAYLIGHT
BEGIN:STANDARD
TZOFFSETFROM:-0400
TZOFFSETTO:-0500
TZNAME:EST
DTSTART:20261101T060000
END:STANDARD
END:VTIMEZONE
BEGIN:VEVENT
DTSTART;VALUE=DATE:20250501
DTEND;VALUE=DATE:20250503
DTSTAMP:20260419T094713
CREATED:20250425T135909Z
LAST-MODIFIED:20250425T135909Z
UID:35961-1746057600-1746230399@undergrad.engineering.utoronto.ca
SUMMARY:Future Ready: Career Launch and Year End Celebration
DESCRIPTION:Join the UTSU\, CIE\, CxED\, and Student Life partners on May 1-2 at the Student Commons for a two-day event packed with career prep\, connection and celebration. Open to all students\, including graduating students and those preparing for their next actions. \nThe event features career and housing info sessions\, a panel with international and domestic alumni sharing insights on life after graduation\, as well as workshops on LinkedIn optimization and networking. You’ll also have the chance to get a professional headshot\, create a personalized keepsake art piece\, and enjoy lunch\, snacks\, and a social celebration with delicious mocktails. Don’t miss this opportunity to network\, learn\, and celebrate as you prepare for your next chapter! \nThis event is open to all students\, both domestic and international\, who are graduating or reaching a key milestone in their undergraduate journey. \nDates: May 1 – May 2\, 2025\nLocation: Student Commons (230 College St.)\nRegistration: View the full schedule and register for sessions here!
URL:https://undergrad.engineering.utoronto.ca/event/future-ready-career-launch-and-year-end-celebration/
LOCATION:Student Commons\, 230 College Street\, Toronto
END:VEVENT
END:VCALENDAR