BEGIN:VCALENDAR
VERSION:2.0
PRODID:-//Current Engineering Undergraduates - ECPv6.15.20//NONSGML v1.0//EN
CALSCALE:GREGORIAN
METHOD:PUBLISH
X-ORIGINAL-URL:https://undergrad.engineering.utoronto.ca
X-WR-CALDESC:Events for Current Engineering Undergraduates
REFRESH-INTERVAL;VALUE=DURATION:PT1H
X-Robots-Tag:noindex
X-PUBLISHED-TTL:PT1H
BEGIN:VTIMEZONE
TZID:America/Toronto
BEGIN:DAYLIGHT
TZOFFSETFROM:-0500
TZOFFSETTO:-0400
TZNAME:EDT
DTSTART:20240310T070000
END:DAYLIGHT
BEGIN:STANDARD
TZOFFSETFROM:-0400
TZOFFSETTO:-0500
TZNAME:EST
DTSTART:20241103T060000
END:STANDARD
BEGIN:DAYLIGHT
TZOFFSETFROM:-0500
TZOFFSETTO:-0400
TZNAME:EDT
DTSTART:20250309T070000
END:DAYLIGHT
BEGIN:STANDARD
TZOFFSETFROM:-0400
TZOFFSETTO:-0500
TZNAME:EST
DTSTART:20251102T060000
END:STANDARD
BEGIN:DAYLIGHT
TZOFFSETFROM:-0500
TZOFFSETTO:-0400
TZNAME:EDT
DTSTART:20260308T070000
END:DAYLIGHT
BEGIN:STANDARD
TZOFFSETFROM:-0400
TZOFFSETTO:-0500
TZNAME:EST
DTSTART:20261101T060000
END:STANDARD
END:VTIMEZONE
BEGIN:VEVENT
DTSTART;TZID=America/Toronto:20250320T120000
DTEND;TZID=America/Toronto:20250320T130000
DTSTAMP:20260421T155219
CREATED:20250314T201459Z
LAST-MODIFIED:20250314T201459Z
UID:35796-1742472000-1742475600@undergrad.engineering.utoronto.ca
SUMMARY:Info Session: U of T Global Leadership Minor
DESCRIPTION:Exciting News for Future Leaders: Applications for the third cohort of the Minor in Global Leadership are now open! \nDo you want to learn more about what this program has to offer? Join us in person for an exclusive session to discover how the Minor in Global Leadership can help you develop crucial skills for making an impact on the world stage. Engineering students in their first to third year are encouraged to attend! \nInfo Session Details:\nDate: March 20\, 2025\nTime: 12:00 – 1:00 p.m.\nLocation: BA2179.\nRegistration: Please reserve your spot at https://fase.eve.utoronto.ca/home/events/5533 \nMinor in Global Leadership Eligibility:\n\nOpen to all undergraduate students of the Faculty of Applied Sciences and Engineering (FASE) who can finish the program’s requirement within two years beginning Fall 2025.\nMust have 4.0 credits by Fall 2025 enrollment.\nModified GPA of 2.7 (B-/70%) based on your top 3.0 FCEs.\n\nThe program offers flexible course schedules to complete the requirements in two or three years.  For more information and inquiries\, contact us at global.leadership@utoronto.ca.
URL:https://undergrad.engineering.utoronto.ca/event/info-session-u-of-t-global-leadership-minor/
LOCATION:Bahen Centre Room 2179 (BA2179)\, 40 St George St\, Toronto
END:VEVENT
END:VCALENDAR