BEGIN:VCALENDAR
VERSION:2.0
PRODID:-//Current Engineering Undergraduates - ECPv6.15.20//NONSGML v1.0//EN
CALSCALE:GREGORIAN
METHOD:PUBLISH
X-ORIGINAL-URL:https://undergrad.engineering.utoronto.ca
X-WR-CALDESC:Events for Current Engineering Undergraduates
REFRESH-INTERVAL;VALUE=DURATION:PT1H
X-Robots-Tag:noindex
X-PUBLISHED-TTL:PT1H
BEGIN:VTIMEZONE
TZID:America/Toronto
BEGIN:DAYLIGHT
TZOFFSETFROM:-0500
TZOFFSETTO:-0400
TZNAME:EDT
DTSTART:20240310T070000
END:DAYLIGHT
BEGIN:STANDARD
TZOFFSETFROM:-0400
TZOFFSETTO:-0500
TZNAME:EST
DTSTART:20241103T060000
END:STANDARD
BEGIN:DAYLIGHT
TZOFFSETFROM:-0500
TZOFFSETTO:-0400
TZNAME:EDT
DTSTART:20250309T070000
END:DAYLIGHT
BEGIN:STANDARD
TZOFFSETFROM:-0400
TZOFFSETTO:-0500
TZNAME:EST
DTSTART:20251102T060000
END:STANDARD
BEGIN:DAYLIGHT
TZOFFSETFROM:-0500
TZOFFSETTO:-0400
TZNAME:EDT
DTSTART:20260308T070000
END:DAYLIGHT
BEGIN:STANDARD
TZOFFSETFROM:-0400
TZOFFSETTO:-0500
TZNAME:EST
DTSTART:20261101T060000
END:STANDARD
END:VTIMEZONE
BEGIN:VEVENT
DTSTART;VALUE=DATE:20250123
DTEND;VALUE=DATE:20250214
DTSTAMP:20260421T183044
CREATED:20241203T203224Z
LAST-MODIFIED:20241219T150519Z
UID:35329-1737590400-1739491199@undergrad.engineering.utoronto.ca
SUMMARY:Research Opportunities Events Series
DESCRIPTION:Interested in research? Learn about the different ways you can gain research experience\, engage with the research community\, and think about research after graduation by attending our series of events about research opportunities for undergraduate engineering students. Check out the events taking place throughout January and February below and register to attend. \nIf you have any questions\, please contact the Experiential Learning Coordinator\, Undergraduate Research & Global Opportunities at undergrad.research@engineering.utoronto.ca. \n  \nEvents Schedule\n\n\n\n\n	DateEventLocationRegistration\n\n\n\n\n	Wednesday\, January 21\, 2026 \n\n11:30am to 1:30pm Undergraduate Engineering Research Showcase\n\nThis showcase is your place to learn all about undergraduate research! \n\nPast student researchers will present their research poster and speak about their research experience. Professors will also be on-site to answer your research-related questions.\n\nLearn about various research opportunities offered by CGEN\, Laidlaw Scholars Program\, Reach Alliance\, TRANSFORM HF\, AC-SURP\, and more! Chat with peers from the Engineering Career Centre for application tips and tricks. Plus\, learn how you can get involved in the research community through USRP and UnERD.\n\nCome out to learn about research opportunities while enjoying snacks and games with peers!\nIn-person: \nBahen Atrium\n\n40 St. George St.\nRegistration is not required.\n\nDrop in anytime between 11:30am to 1:30pm!\n\n\n\n	Tuesday\, January 27\, 2026 \n\nOR \n\nThursday\, January 29\, 2026 \n\n6:30pm to 8:30pm Undergraduate Research Boot Camp \n \nWant to dive into undergraduate research but not sure where to start? This 2-hour intensive session will give you the essentials to kick off your journey. Topics include: \n\n• Finding Research Opportunities: Where to look for undergraduate research \n• Applying for Research Positions: Tips for curating a strong application \n• Research Awards & Funding: Finding undergraduate research awards to fund your experience \n\nIf you’re looking to gain undergraduate research experience but you’re not sure where to start\, attend one of two Undergraduate Research Boot Camps offered! \n\nRefreshments will be provided. \nIn-person: \nGB202\nGalbraith Building\n\n35 St. George St.\, Room 202 (second floor)Register Here\n\nNOTE: Please register for one of two sessions\, as the content of each session will be the same.\n\n\n	Tuesday\, February 3\, 2026 \n\n12:30pm – 1:30pm UnERD Planning Committee Information Session\n\nAre you interested in event planning? Do you enjoy research? Consider applying to be a member of the UnERD Planning Committee!\n\nWe are recruiting students to plan and coordinate the 2026 Undergraduate Engineering Research Day where undergraduate Engineering students will showcase their research to industry professionals and fellow students\, inspiring the exchange of innovative solutions across a wide breadth of global challenges. This annual conference is planned and organized by students to promote collaboration and networking.\n\nRefreshments will be provided at the in-person session.\n\nIn-person: \nGB202\nGalbraith Building\n\n35 St. George St.\, Room 202 (second floor)\nRegister Here\n\nNOTE: This is one of the two sessions being offered. Please choose to attend one. If you cannot attend this session\, another session will be offered virtually on February 5. \n\n\n	Wednesday\, February 4\, 2026 \n\n6:00pm – 7:30pm Undergraduate Research Student Panel & Mixer\n\nCurious about what it’s like to conduct research as an undergraduate student? Join us for an interactive panel featuring current Engineering students who have successfully navigated undergraduate research opportunities.  \n\nIn this student panel discussion\, your peers will share information about their research experiences and strategies for finding and applying to research opportunities. \n\nAfter the panel\, stick around for a casual mixer to connect with the panelists! \n\nRefreshments will be provided. \nIn-person: \nGB202\nGalbraith Building\n\n35 St. George St.\, Room 202 (second floor)Register Here\n\n\n	Thursday\, February 5\, 2026 \n\n12:30pm – 1:30pm UnERD Planning Committee Information Session\n\nAre you interested in event planning? Do you enjoy research? Consider applying to be a member of the UnERD Planning Committee!\n\nWe are recruiting students to plan and coordinate the 2026 Undergraduate Engineering Research Day where undergraduate Engineering students will showcase their research to industry professionals and fellow students\, inspiring the exchange of innovative solutions across a wide breadth of global challenges. This annual conference is planned and organized by students to promote collaboration and networking.\n\nRefreshments will be provided at the in-person session.\nVirtual – On ZoomRegister Here\n\nNOTE: This is one of two sessions being offered. Please choose to attend one. If you cannot attend this session\, another session will be offered in-person on February 3.
URL:https://undergrad.engineering.utoronto.ca/event/research-opportunities-events-series/
ORGANIZER;CN="Experiential Learning Coordinator%2C Undergraduate Research & Global Opportunities":MAILTO:undergrad.research@engineering.utoronto.ca
END:VEVENT
BEGIN:VEVENT
DTSTART;VALUE=DATE:20250210
DTEND;VALUE=DATE:20250217
DTSTAMP:20260421T183044
CREATED:20250124T163005Z
LAST-MODIFIED:20250130T205638Z
UID:35582-1739145600-1739750399@undergrad.engineering.utoronto.ca
SUMMARY:FASE Winter Wellness Week 2025
DESCRIPTION:Learn about mental health and wellness strategies in a safe space at the U of T Engineering Winter Wellness Week. Multiple sessions are being offered for the chance to connect with support resources available to engineering students.  \nDrop by the sessions you’re interested in or join us for all the sessions available! \nIf you have any questions\, contact the Student & Community Wellness Coordinator at wellness@engineering.utoronto.ca. \nWinter Wellness Week Schedule\n\n\n\n\n	EventDescriptionDateTime/LocationPartner Organization\n\n\n\n\n	Art of Release RetreatA wellness retreat with art therapy strategies led by facilitator. \nMonday\, February 10\, 202512:00pm - 2:00pm\n\nELC Conference RoomGradSWE (@gradsweuoft)\n\nECC Peer Coaches\n\n\n	Hacking Perfectionism\nA workshop to help students better understand perfectionism and develop tools to overcome thoughts and behaviours that hinder goals.\nTuesday\, February 11\, 202512:00pm - 1:30pm\n\nFI 144Health & Wellness \n(health.promotion@utoronto.ca)\n\n*Space is limited\, please register here\n\n\n	Mindful Meditation\nA drop-in session to learn about mindful meditation and ways to stay and feel well. \nWednesday\, February 12\, 202512:00pm and 1:00pm\n(50 minutes per session)\n\nSF 1009Mobile MoveU (moveucrew@utoronto.ca)\n\n\n	Expressing Love Pop-UpTabling event for students to learn how to say "I Love You" in different languages.\nThursday\, February 13\, 202511:30am - 1:30pm\n\nMyhal LobbySkule™ Mental Wellness (@skulementalwellness)\n\n\n	Sports Psychologist Session - Sports & WellnessA sports and wellness session with a Sports Psychologist led by Blues Engineering.Sunday\, February 16\, 20255:00pm - 7:00pm\n\nVarsity Stadium\, Blue & White RoomBlues Engineering (@blues.engeering)
URL:https://undergrad.engineering.utoronto.ca/event/fase-winter-wellness-week-2025/
LOCATION:Multiple Locations
ORGANIZER;CN="Student & Community Wellness Coordinator":MAILTO:wellness@engineering.utoronto.ca
END:VEVENT
BEGIN:VEVENT
DTSTART;VALUE=DATE:20250212
DTEND;VALUE=DATE:20250213
DTSTAMP:20260421T183044
CREATED:20241114T162422Z
LAST-MODIFIED:20241114T162422Z
UID:35228-1739318400-1739404799@undergrad.engineering.utoronto.ca
SUMMARY:The Hult Prize OnCampus Competition
DESCRIPTION:The Hult Prize OnCampus Competition is back! Whether you’re a seasoned startup ready to scale or an aspiring entrepreneur with a big idea\, join a global community of changemakers. \nEach year\, Hult Prize empowers students to create innovative startups that can create real impact. Participants join an exclusive global community of student entrepreneurs\, mentors\, and industry experts as they work to earn a spot in our Global Finals where finalists compete for $1M in funding to bring their big ideas to life. \nRegistrationa are open until January 19\, 2025\, at 11:59 PM \nEvent Details\nCompetition Date: February 12\, 2025\nRegistration: Register here by January 19!
URL:https://undergrad.engineering.utoronto.ca/event/the-hult-prize-oncampus-competition/
END:VEVENT
END:VCALENDAR