BEGIN:VCALENDAR
VERSION:2.0
PRODID:-//Current Engineering Undergraduates - ECPv6.15.20//NONSGML v1.0//EN
CALSCALE:GREGORIAN
METHOD:PUBLISH
X-WR-CALNAME:Current Engineering Undergraduates
X-ORIGINAL-URL:https://undergrad.engineering.utoronto.ca
X-WR-CALDESC:Events for Current Engineering Undergraduates
REFRESH-INTERVAL;VALUE=DURATION:PT1H
X-Robots-Tag:noindex
X-PUBLISHED-TTL:PT1H
BEGIN:VTIMEZONE
TZID:America/Toronto
BEGIN:DAYLIGHT
TZOFFSETFROM:-0500
TZOFFSETTO:-0400
TZNAME:EDT
DTSTART:20230312T070000
END:DAYLIGHT
BEGIN:STANDARD
TZOFFSETFROM:-0400
TZOFFSETTO:-0500
TZNAME:EST
DTSTART:20231105T060000
END:STANDARD
BEGIN:DAYLIGHT
TZOFFSETFROM:-0500
TZOFFSETTO:-0400
TZNAME:EDT
DTSTART:20240310T070000
END:DAYLIGHT
BEGIN:STANDARD
TZOFFSETFROM:-0400
TZOFFSETTO:-0500
TZNAME:EST
DTSTART:20241103T060000
END:STANDARD
BEGIN:DAYLIGHT
TZOFFSETFROM:-0500
TZOFFSETTO:-0400
TZNAME:EDT
DTSTART:20250309T070000
END:DAYLIGHT
BEGIN:STANDARD
TZOFFSETFROM:-0400
TZOFFSETTO:-0500
TZNAME:EST
DTSTART:20251102T060000
END:STANDARD
END:VTIMEZONE
BEGIN:VEVENT
DTSTART;TZID=America/Toronto:20241111T173000
DTEND;TZID=America/Toronto:20241111T183000
DTSTAMP:20260419T102942
CREATED:20241030T135443Z
LAST-MODIFIED:20241030T135443Z
UID:35131-1731346200-1731349800@undergrad.engineering.utoronto.ca
SUMMARY:Info Session: Summer Research Exchange Program (SREP)
DESCRIPTION:The Summer Research Exchange Program (SREP) is an exciting opportunity for undergraduate students to gain hands-on research experience at partner institutions worldwide while working towards their University of Toronto degree requirements. Successful applicants travel to one of the international partner institutions to work on research based on their discipline\, research interests\, and general preferences. \nAn information session tailored for engineering students will take place on November 11\, 2024\, from 5:30 p.m. to 6:30 p.m. in GB202. Sign up to learn more about the application process and ask any questions you may have! \nSREP Info Session\nDate: Monday\, November 11\, 2024\nTime: 5:30 – 6:30 p.m.\nLocation: GB202\nRegistration: Register here.
URL:https://undergrad.engineering.utoronto.ca/event/info-session-srep/
LOCATION:Galbraith Building Room 202 (GB202)\, 35 St. George St
END:VEVENT
END:VCALENDAR