BEGIN:VCALENDAR
VERSION:2.0
PRODID:-//Current Engineering Undergraduates - ECPv6.15.20//NONSGML v1.0//EN
CALSCALE:GREGORIAN
METHOD:PUBLISH
X-WR-CALNAME:Current Engineering Undergraduates
X-ORIGINAL-URL:https://undergrad.engineering.utoronto.ca
X-WR-CALDESC:Events for Current Engineering Undergraduates
REFRESH-INTERVAL;VALUE=DURATION:PT1H
X-Robots-Tag:noindex
X-PUBLISHED-TTL:PT1H
BEGIN:VTIMEZONE
TZID:America/Toronto
BEGIN:DAYLIGHT
TZOFFSETFROM:-0500
TZOFFSETTO:-0400
TZNAME:EDT
DTSTART:20230312T070000
END:DAYLIGHT
BEGIN:STANDARD
TZOFFSETFROM:-0400
TZOFFSETTO:-0500
TZNAME:EST
DTSTART:20231105T060000
END:STANDARD
BEGIN:DAYLIGHT
TZOFFSETFROM:-0500
TZOFFSETTO:-0400
TZNAME:EDT
DTSTART:20240310T070000
END:DAYLIGHT
BEGIN:STANDARD
TZOFFSETFROM:-0400
TZOFFSETTO:-0500
TZNAME:EST
DTSTART:20241103T060000
END:STANDARD
BEGIN:DAYLIGHT
TZOFFSETFROM:-0500
TZOFFSETTO:-0400
TZNAME:EDT
DTSTART:20250309T070000
END:DAYLIGHT
BEGIN:STANDARD
TZOFFSETFROM:-0400
TZOFFSETTO:-0500
TZNAME:EST
DTSTART:20251102T060000
END:STANDARD
END:VTIMEZONE
BEGIN:VEVENT
DTSTART;TZID=America/Toronto:20241105T180000
DTEND;TZID=America/Toronto:20241105T200000
DTSTAMP:20260419T111220
CREATED:20241028T131253Z
LAST-MODIFIED:20241028T131253Z
UID:35078-1730829600-1730836800@undergrad.engineering.utoronto.ca
SUMMARY:Unpacking EDI Challenges in Undergraduate Teamwork
DESCRIPTION:Teamwork is integral to engineering—in the classroom and in the workplace—but it is also one of the most challenging tasks. \nTeams sometimes hit roadblocks because of different perspectives\, styles\, identities\, or lived experiences. What happens when questions of equity\, diversity and inclusion are the cause of these roadblocks? \nJoin us for facilitated small-group activities led by trained peers who will guide you through a series of questions to reflect on your experiences and brainstorm ideas for future supports.  There will be time for larger group sharing at the end.Dinner will be provided for those who register before the deadline! \nLearn more about the event at uofteng.ca/teamwork-ug. \n  \nEvent Info\nDate: Tuesday\, November 5\, 2024.\nTime: 6 p.m. to 8 p.m.\nLocation: Myhal Centre Room 330 (MY330)\nRegistration: Register by Wednesday\, October 30. 
URL:https://undergrad.engineering.utoronto.ca/event/unpacking-edi-challenges-in-undergraduate-teamwork/
LOCATION:Myhal Centre Room 330 (MY330)\, 55 St George St\, Toronto
ORGANIZER;CN="Engineering Equity%2C Diversity & Inclusion Action Group (EEDIAG)":MAILTO:eng.equity@utoronto.ca
END:VEVENT
END:VCALENDAR