BEGIN:VCALENDAR
VERSION:2.0
PRODID:-//Current Engineering Undergraduates - ECPv6.15.20//NONSGML v1.0//EN
CALSCALE:GREGORIAN
METHOD:PUBLISH
X-ORIGINAL-URL:https://undergrad.engineering.utoronto.ca
X-WR-CALDESC:Events for Current Engineering Undergraduates
REFRESH-INTERVAL;VALUE=DURATION:PT1H
X-Robots-Tag:noindex
X-PUBLISHED-TTL:PT1H
BEGIN:VTIMEZONE
TZID:America/Toronto
BEGIN:DAYLIGHT
TZOFFSETFROM:-0500
TZOFFSETTO:-0400
TZNAME:EDT
DTSTART:20230312T070000
END:DAYLIGHT
BEGIN:STANDARD
TZOFFSETFROM:-0400
TZOFFSETTO:-0500
TZNAME:EST
DTSTART:20231105T060000
END:STANDARD
BEGIN:DAYLIGHT
TZOFFSETFROM:-0500
TZOFFSETTO:-0400
TZNAME:EDT
DTSTART:20240310T070000
END:DAYLIGHT
BEGIN:STANDARD
TZOFFSETFROM:-0400
TZOFFSETTO:-0500
TZNAME:EST
DTSTART:20241103T060000
END:STANDARD
BEGIN:DAYLIGHT
TZOFFSETFROM:-0500
TZOFFSETTO:-0400
TZNAME:EDT
DTSTART:20250309T070000
END:DAYLIGHT
BEGIN:STANDARD
TZOFFSETFROM:-0400
TZOFFSETTO:-0500
TZNAME:EST
DTSTART:20251102T060000
END:STANDARD
END:VTIMEZONE
BEGIN:VEVENT
DTSTART;VALUE=DATE:20241028
DTEND;VALUE=DATE:20241102
DTSTAMP:20260421T110040
CREATED:20240807T174518Z
LAST-MODIFIED:20240909T124718Z
UID:34378-1730073600-1730505599@undergrad.engineering.utoronto.ca
SUMMARY:Fall Study Break (Reading Week)
DESCRIPTION:The Fall Study Break (also known as the Fall Term Reading Week) is from October 28 to November 1. No Fall Term classes will be offered. However\, the University will be open. \nWe wish students a productive and restful break! \nFor the complete list of sessional dates\, visit the Engineering Academic Calendar.
URL:https://undergrad.engineering.utoronto.ca/event/fall-study-break-reading-week/
CATEGORIES:2024 Fall Term
END:VEVENT
BEGIN:VEVENT
DTSTART;VALUE=DATE:20241031
DTEND;VALUE=DATE:20241101
DTSTAMP:20260421T110040
CREATED:20240807T174705Z
LAST-MODIFIED:20240807T174705Z
UID:34380-1730332800-1730419199@undergrad.engineering.utoronto.ca
SUMMARY:Final Exam Schedule is Published (Tentative)
DESCRIPTION:The examination timetable for F-term courses will tentatively be posted on October 31\, 2024. \nMore information about Engineering exams can be found on the Exam Schedules\, Locations and Information page.
URL:https://undergrad.engineering.utoronto.ca/event/final-exam-schedule-is-published-tentative/
END:VEVENT
BEGIN:VEVENT
DTSTART;VALUE=DATE:20241031
DTEND;VALUE=DATE:20241101
DTSTAMP:20260421T110040
CREATED:20240909T130142Z
LAST-MODIFIED:20240909T130212Z
UID:34649-1730332800-1730419199@undergrad.engineering.utoronto.ca
SUMMARY:Fall Convocation for U of T Engineering
DESCRIPTION:The Fall Convocation ceremony for conferring the Bachelor of Applied Science and Bachelor of Applied Science in Engineering Science degrees will be held on October 31\, 2024. Visit the Office of Convocation for more details. \nCongratulations to our graduating students!
URL:https://undergrad.engineering.utoronto.ca/event/fall-convocation-for-u-of-t-engineering/
END:VEVENT
END:VCALENDAR