BEGIN:VCALENDAR
VERSION:2.0
PRODID:-//Current Engineering Undergraduates - ECPv6.15.20//NONSGML v1.0//EN
CALSCALE:GREGORIAN
METHOD:PUBLISH
X-ORIGINAL-URL:https://undergrad.engineering.utoronto.ca
X-WR-CALDESC:Events for Current Engineering Undergraduates
REFRESH-INTERVAL;VALUE=DURATION:PT1H
X-Robots-Tag:noindex
X-PUBLISHED-TTL:PT1H
BEGIN:VTIMEZONE
TZID:America/Toronto
BEGIN:DAYLIGHT
TZOFFSETFROM:-0500
TZOFFSETTO:-0400
TZNAME:EDT
DTSTART:20230312T070000
END:DAYLIGHT
BEGIN:STANDARD
TZOFFSETFROM:-0400
TZOFFSETTO:-0500
TZNAME:EST
DTSTART:20231105T060000
END:STANDARD
BEGIN:DAYLIGHT
TZOFFSETFROM:-0500
TZOFFSETTO:-0400
TZNAME:EDT
DTSTART:20240310T070000
END:DAYLIGHT
BEGIN:STANDARD
TZOFFSETFROM:-0400
TZOFFSETTO:-0500
TZNAME:EST
DTSTART:20241103T060000
END:STANDARD
BEGIN:DAYLIGHT
TZOFFSETFROM:-0500
TZOFFSETTO:-0400
TZNAME:EDT
DTSTART:20250309T070000
END:DAYLIGHT
BEGIN:STANDARD
TZOFFSETFROM:-0400
TZOFFSETTO:-0500
TZNAME:EST
DTSTART:20251102T060000
END:STANDARD
END:VTIMEZONE
BEGIN:VEVENT
DTSTART;VALUE=DATE:20241028
DTEND;VALUE=DATE:20241029
DTSTAMP:20260421T074136
CREATED:20240909T125043Z
LAST-MODIFIED:20240909T125043Z
UID:34640-1730073600-1730159999@undergrad.engineering.utoronto.ca
SUMMARY:PEY Co-op Program: Career Portal with Summer 2025 Postings Open
DESCRIPTION:On October 28\, 2024\, the Career Portal with Summer 2025 job postings will open to qualified students seeking Summer Co-op Work Terms. Interviews\, job offers and acceptances begin shortly after. \nMore information about PEY Co-op can be found on the Engineering Career Center (ECC) website.
URL:https://undergrad.engineering.utoronto.ca/event/pey-co-op-program-career-portal-with-summer-2025-postings-open/
END:VEVENT
BEGIN:VEVENT
DTSTART;VALUE=DATE:20241028
DTEND;VALUE=DATE:20241102
DTSTAMP:20260421T074136
CREATED:20240807T174518Z
LAST-MODIFIED:20240909T124718Z
UID:34378-1730073600-1730505599@undergrad.engineering.utoronto.ca
SUMMARY:Fall Study Break (Reading Week)
DESCRIPTION:The Fall Study Break (also known as the Fall Term Reading Week) is from October 28 to November 1. No Fall Term classes will be offered. However\, the University will be open. \nWe wish students a productive and restful break! \nFor the complete list of sessional dates\, visit the Engineering Academic Calendar.
URL:https://undergrad.engineering.utoronto.ca/event/fall-study-break-reading-week/
CATEGORIES:2024 Fall Term
END:VEVENT
END:VCALENDAR