BEGIN:VCALENDAR
VERSION:2.0
PRODID:-//Current Engineering Undergraduates - ECPv6.15.20//NONSGML v1.0//EN
CALSCALE:GREGORIAN
METHOD:PUBLISH
X-ORIGINAL-URL:https://undergrad.engineering.utoronto.ca
X-WR-CALDESC:Events for Current Engineering Undergraduates
REFRESH-INTERVAL;VALUE=DURATION:PT1H
X-Robots-Tag:noindex
X-PUBLISHED-TTL:PT1H
BEGIN:VTIMEZONE
TZID:America/Toronto
BEGIN:DAYLIGHT
TZOFFSETFROM:-0500
TZOFFSETTO:-0400
TZNAME:EDT
DTSTART:20230312T070000
END:DAYLIGHT
BEGIN:STANDARD
TZOFFSETFROM:-0400
TZOFFSETTO:-0500
TZNAME:EST
DTSTART:20231105T060000
END:STANDARD
BEGIN:DAYLIGHT
TZOFFSETFROM:-0500
TZOFFSETTO:-0400
TZNAME:EDT
DTSTART:20240310T070000
END:DAYLIGHT
BEGIN:STANDARD
TZOFFSETFROM:-0400
TZOFFSETTO:-0500
TZNAME:EST
DTSTART:20241103T060000
END:STANDARD
BEGIN:DAYLIGHT
TZOFFSETFROM:-0500
TZOFFSETTO:-0400
TZNAME:EDT
DTSTART:20250309T070000
END:DAYLIGHT
BEGIN:STANDARD
TZOFFSETFROM:-0400
TZOFFSETTO:-0500
TZNAME:EST
DTSTART:20251102T060000
END:STANDARD
END:VTIMEZONE
BEGIN:VEVENT
DTSTART;TZID=America/Toronto:20241016T160000
DTEND;TZID=America/Toronto:20241016T170000
DTSTAMP:20260421T143425
CREATED:20241007T133022Z
LAST-MODIFIED:20241007T133022Z
UID:34935-1729094400-1729098000@undergrad.engineering.utoronto.ca
SUMMARY:Info Session: Laidlaw Scholars Program
DESCRIPTION:Do you enjoy conducting independent research to develop your academic potential as well as participating in various global programs to expand your leadership abilities? If so\, you may be interested in becoming a Laidlaw Scholar! \nThe Laidlaw Scholars Program provides first and second-year undergraduate students with funding to pursue research in any area of interest at U of T\, or anywhere in the world. \nLearn more about this opportunity at the virtual info session on October 16\, from 4 to 5 p.m.
URL:https://undergrad.engineering.utoronto.ca/event/info-session-laidlaw-scholars/
LOCATION:Virtual
END:VEVENT
END:VCALENDAR