BEGIN:VCALENDAR
VERSION:2.0
PRODID:-//Current Engineering Undergraduates - ECPv6.15.20//NONSGML v1.0//EN
CALSCALE:GREGORIAN
METHOD:PUBLISH
X-ORIGINAL-URL:https://undergrad.engineering.utoronto.ca
X-WR-CALDESC:Events for Current Engineering Undergraduates
REFRESH-INTERVAL;VALUE=DURATION:PT1H
X-Robots-Tag:noindex
X-PUBLISHED-TTL:PT1H
BEGIN:VTIMEZONE
TZID:America/Toronto
BEGIN:DAYLIGHT
TZOFFSETFROM:-0500
TZOFFSETTO:-0400
TZNAME:EDT
DTSTART:20230312T070000
END:DAYLIGHT
BEGIN:STANDARD
TZOFFSETFROM:-0400
TZOFFSETTO:-0500
TZNAME:EST
DTSTART:20231105T060000
END:STANDARD
BEGIN:DAYLIGHT
TZOFFSETFROM:-0500
TZOFFSETTO:-0400
TZNAME:EDT
DTSTART:20240310T070000
END:DAYLIGHT
BEGIN:STANDARD
TZOFFSETFROM:-0400
TZOFFSETTO:-0500
TZNAME:EST
DTSTART:20241103T060000
END:STANDARD
BEGIN:DAYLIGHT
TZOFFSETFROM:-0500
TZOFFSETTO:-0400
TZNAME:EDT
DTSTART:20250309T070000
END:DAYLIGHT
BEGIN:STANDARD
TZOFFSETFROM:-0400
TZOFFSETTO:-0500
TZNAME:EST
DTSTART:20251102T060000
END:STANDARD
END:VTIMEZONE
BEGIN:VEVENT
DTSTART;TZID=America/Toronto:20240321T090000
DTEND;TZID=America/Toronto:20240321T153000
DTSTAMP:20260421T162410
CREATED:20240311T124957Z
LAST-MODIFIED:20240311T124957Z
UID:33700-1711011600-1711035000@undergrad.engineering.utoronto.ca
SUMMARY:International Day for the Elimination of Racial Discrimination (IDERD)
DESCRIPTION:The International Day for the Elimination of Racial Discrimination (IDERD)\, observed every March 21\, brings the world community together to increase its efforts in the elimination of all forms of racial discrimination and racism. \nThe Institutional Equity Office and the Anti-Racism & Cultural Diversity Office (ARCDO) invites all students to register for the IDERD event to gather as a community and re-engage in our commitment to equitable and inclusive spaces for all. \nDate: March 21\, 2024\nTime: 9 a.m. – 3:30 p.m.\nLocation: Desautes Hall – Rotman School of Management (105 St. George Street) \nLearn more and register for this free event. \n  \nEvent Schedule \n10:00 a.m. – 11:05 a.m. – Panel 1: Navigating EDI Work in 2024: Challenges and Opportunities \n11:10 a.m. – 12:10 p.m. – Panel 2: Perspectives and Reflections of Black Women in Leadership \n1:20 p.m. – 2:20 p.m. – Panel 3: Enhancing Community Strategies to Address Anti-Asian Racism on Campus \n2:35 p.m. – 3:20 p.m. – Wellness Activity: Restoration Through Art
URL:https://undergrad.engineering.utoronto.ca/event/international-day-for-the-elimination-of-racial-discrimination-iderd/
LOCATION:Desautes Hall – Rotman School of Management 105 St. George Street\, 105 St. George Street\, Toronto
END:VEVENT
END:VCALENDAR