BEGIN:VCALENDAR
VERSION:2.0
PRODID:-//Current Engineering Undergraduates - ECPv6.15.20//NONSGML v1.0//EN
CALSCALE:GREGORIAN
METHOD:PUBLISH
X-ORIGINAL-URL:https://undergrad.engineering.utoronto.ca
X-WR-CALDESC:Events for Current Engineering Undergraduates
REFRESH-INTERVAL;VALUE=DURATION:PT1H
X-Robots-Tag:noindex
X-PUBLISHED-TTL:PT1H
BEGIN:VTIMEZONE
TZID:America/Toronto
BEGIN:DAYLIGHT
TZOFFSETFROM:-0500
TZOFFSETTO:-0400
TZNAME:EDT
DTSTART:20230312T070000
END:DAYLIGHT
BEGIN:STANDARD
TZOFFSETFROM:-0400
TZOFFSETTO:-0500
TZNAME:EST
DTSTART:20231105T060000
END:STANDARD
BEGIN:DAYLIGHT
TZOFFSETFROM:-0500
TZOFFSETTO:-0400
TZNAME:EDT
DTSTART:20240310T070000
END:DAYLIGHT
BEGIN:STANDARD
TZOFFSETFROM:-0400
TZOFFSETTO:-0500
TZNAME:EST
DTSTART:20241103T060000
END:STANDARD
BEGIN:DAYLIGHT
TZOFFSETFROM:-0500
TZOFFSETTO:-0400
TZNAME:EDT
DTSTART:20250309T070000
END:DAYLIGHT
BEGIN:STANDARD
TZOFFSETFROM:-0400
TZOFFSETTO:-0500
TZNAME:EST
DTSTART:20251102T060000
END:STANDARD
END:VTIMEZONE
BEGIN:VEVENT
DTSTART;VALUE=DATE:20240311
DTEND;VALUE=DATE:20240312
DTSTAMP:20260421T154556
CREATED:20240116T165148Z
LAST-MODIFIED:20240116T165148Z
UID:33260-1710115200-1710201599@undergrad.engineering.utoronto.ca
SUMMARY:Last Day to Transfer to Part-Time Studies
DESCRIPTION:March 11\, 2024\, is the last day students can transfer to part-time studies. \nPlease note that the last date to cancel a course or cancel your registration in a session with no academic penalty may not always coincide with the last date that you are eligible for a refund. Review the refund schedules for applicable dates and deadlines: studentaccount.utoronto.ca. \nFor the complete list of sessional dates\, visit the Engineering Academic Calendar.
URL:https://undergrad.engineering.utoronto.ca/event/last-day-to-transfer-to-part-time-studies/
END:VEVENT
BEGIN:VEVENT
DTSTART;VALUE=DATE:20240311
DTEND;VALUE=DATE:20240312
DTSTAMP:20260421T154556
CREATED:20240116T165030Z
LAST-MODIFIED:20240116T165030Z
UID:33258-1710115200-1710201599@undergrad.engineering.utoronto.ca
SUMMARY:Deadline to Drop Winter Term Courses Without Academic Penalty
DESCRIPTION:March 11\, 2024\, is the last day students can drop S-term courses without academic penalty\, including S-term courses taken in Arts & Science. \nPlease note that the last date to cancel a course or cancel your registration in a session with no academic penalty may not always coincide with the last date that you are eligible for a refund. Review the refund schedules for applicable dates and deadlines: studentaccount.utoronto.ca. \nFor the complete list of sessional dates\, visit the Engineering Academic Calendar.
URL:https://undergrad.engineering.utoronto.ca/event/deadline-to-drop-winter-term-courses-without-academic-penalty/
END:VEVENT
BEGIN:VEVENT
DTSTART;VALUE=DATE:20240311
DTEND;VALUE=DATE:20240312
DTSTAMP:20260421T154556
CREATED:20240116T165316Z
LAST-MODIFIED:20240116T165316Z
UID:33262-1710115200-1710201599@undergrad.engineering.utoronto.ca
SUMMARY:Winter Term Withdrawal Deadline Without Academic Penalty
DESCRIPTION:March 11\, 2024\, is the last day students can withdraw from the S-term without academic penalty. \nPlease note that the last date to cancel a course or cancel your registration in a session with no academic penalty may not always coincide with the last date that you are eligible for a refund. Review the refund schedules for applicable dates and deadlines: studentaccount.utoronto.ca. \nFor the complete list of sessional dates\, visit the Engineering Academic Calendar.
URL:https://undergrad.engineering.utoronto.ca/event/winter-term-withdrawal-deadline-without-academic-penalty/
END:VEVENT
BEGIN:VEVENT
DTSTART;VALUE=DATE:20240311
DTEND;VALUE=DATE:20240312
DTSTAMP:20260421T154556
CREATED:20240116T165655Z
LAST-MODIFIED:20240116T165655Z
UID:33264-1710115200-1710201599@undergrad.engineering.utoronto.ca
SUMMARY:Last Day to Apply to Re-Enrol for the 2024 Fall Term
DESCRIPTION:March 11\, 2024\, is the last day students can apply to re-enrol for the 2024 Fall Term. \nPlease note that the last date to cancel a course or cancel your registration in a session with no academic penalty may not always coincide with the last date that you are eligible for a refund. Review the refund schedules for applicable dates and deadlines: studentaccount.utoronto.ca. \nFor the complete list of sessional dates\, visit the Engineering Academic Calendar.
URL:https://undergrad.engineering.utoronto.ca/event/last-day-to-apply-to-re-enrol-for-the-2024-fall-term/
END:VEVENT
BEGIN:VEVENT
DTSTART;VALUE=DATE:20240311
DTEND;VALUE=DATE:20240312
DTSTAMP:20260421T154556
CREATED:20240116T172257Z
LAST-MODIFIED:20240116T172257Z
UID:33266-1710115200-1710201599@undergrad.engineering.utoronto.ca
SUMMARY:Deadline to Change a For Credit Winter Term Course to Extra Course
DESCRIPTION:March 11\, 2024\, is the deadline to change a for credit S-term course to an Extra course. \nFor the complete list of sessional dates\, visit the Engineering Academic Calendar.
URL:https://undergrad.engineering.utoronto.ca/event/deadline-to-change-a-for-credit-winter-term-course-to-extra-course/
END:VEVENT
END:VCALENDAR