BEGIN:VCALENDAR
VERSION:2.0
PRODID:-//Current Engineering Undergraduates - ECPv6.15.20//NONSGML v1.0//EN
CALSCALE:GREGORIAN
METHOD:PUBLISH
X-ORIGINAL-URL:https://undergrad.engineering.utoronto.ca
X-WR-CALDESC:Events for Current Engineering Undergraduates
REFRESH-INTERVAL;VALUE=DURATION:PT1H
X-Robots-Tag:noindex
X-PUBLISHED-TTL:PT1H
BEGIN:VTIMEZONE
TZID:America/Toronto
BEGIN:DAYLIGHT
TZOFFSETFROM:-0500
TZOFFSETTO:-0400
TZNAME:EDT
DTSTART:20230312T070000
END:DAYLIGHT
BEGIN:STANDARD
TZOFFSETFROM:-0400
TZOFFSETTO:-0500
TZNAME:EST
DTSTART:20231105T060000
END:STANDARD
BEGIN:DAYLIGHT
TZOFFSETFROM:-0500
TZOFFSETTO:-0400
TZNAME:EDT
DTSTART:20240310T070000
END:DAYLIGHT
BEGIN:STANDARD
TZOFFSETFROM:-0400
TZOFFSETTO:-0500
TZNAME:EST
DTSTART:20241103T060000
END:STANDARD
BEGIN:DAYLIGHT
TZOFFSETFROM:-0500
TZOFFSETTO:-0400
TZNAME:EDT
DTSTART:20250309T070000
END:DAYLIGHT
BEGIN:STANDARD
TZOFFSETFROM:-0400
TZOFFSETTO:-0500
TZNAME:EST
DTSTART:20251102T060000
END:STANDARD
END:VTIMEZONE
BEGIN:VEVENT
DTSTART;TZID=America/Toronto:20240112T183000
DTEND;TZID=America/Toronto:20240112T193000
DTSTAMP:20260421T032247
CREATED:20240105T135239Z
LAST-MODIFIED:20240105T135239Z
UID:33120-1705084200-1705087800@undergrad.engineering.utoronto.ca
SUMMARY:Build Your Semester Plan Workshop
DESCRIPTION:  \nSession 1:\nDate: Friday\, January 12\, 2024\nTime: 6:30 – 7:30 p.m.\nLocation: To be provided after registration \nIt’s a new semester! Want to set yourself up for another semester of success? Join this session for a step-by-step time management and productivity workshop. \n\nLearn how to schedule your tasks and plan ahead for your semester.\nFind the optimal times for learning course content and completing assessments.\nLeave with an effective semester plan that you can start to implement.\nGet answers to any questions you have about your learning.\nEnjoy free pizza and make new friends!\n\nRegister for the session.
URL:https://undergrad.engineering.utoronto.ca/event/build-your-semester-plan-workshop/
LOCATION:To be provided after registration
ORGANIZER;CN="Engineering Learning Strategist":MAILTO:https://undergrad.engineering.utoronto.ca/advising-and-wellness/learning-skills-strategist/
END:VEVENT
END:VCALENDAR