BEGIN:VCALENDAR
VERSION:2.0
PRODID:-//Current Engineering Undergraduates - ECPv6.15.20//NONSGML v1.0//EN
CALSCALE:GREGORIAN
METHOD:PUBLISH
X-ORIGINAL-URL:https://undergrad.engineering.utoronto.ca
X-WR-CALDESC:Events for Current Engineering Undergraduates
REFRESH-INTERVAL;VALUE=DURATION:PT1H
X-Robots-Tag:noindex
X-PUBLISHED-TTL:PT1H
BEGIN:VTIMEZONE
TZID:America/Toronto
BEGIN:DAYLIGHT
TZOFFSETFROM:-0500
TZOFFSETTO:-0400
TZNAME:EDT
DTSTART:20220313T070000
END:DAYLIGHT
BEGIN:STANDARD
TZOFFSETFROM:-0400
TZOFFSETTO:-0500
TZNAME:EST
DTSTART:20221106T060000
END:STANDARD
BEGIN:DAYLIGHT
TZOFFSETFROM:-0500
TZOFFSETTO:-0400
TZNAME:EDT
DTSTART:20230312T070000
END:DAYLIGHT
BEGIN:STANDARD
TZOFFSETFROM:-0400
TZOFFSETTO:-0500
TZNAME:EST
DTSTART:20231105T060000
END:STANDARD
BEGIN:DAYLIGHT
TZOFFSETFROM:-0500
TZOFFSETTO:-0400
TZNAME:EDT
DTSTART:20240310T070000
END:DAYLIGHT
BEGIN:STANDARD
TZOFFSETFROM:-0400
TZOFFSETTO:-0500
TZNAME:EST
DTSTART:20241103T060000
END:STANDARD
END:VTIMEZONE
BEGIN:VEVENT
DTSTART;TZID=America/Toronto:20231121T180000
DTEND;TZID=America/Toronto:20231121T190000
DTSTAMP:20260421T213910
CREATED:20231025T183325Z
LAST-MODIFIED:20231025T183325Z
UID:32485-1700589600-1700593200@undergrad.engineering.utoronto.ca
SUMMARY:Workshop: How to Find a Research Opportunity
DESCRIPTION:Are you interested in finding a research opportunity but not sure how to get started? Join this workshop to learn about the strategies to help you find a research opportunity as an undergraduate engineering student! \nThis workshop will include the following topics that can help when you start searching for opportunities: \n\nHow to approach professors about doing research in their lab\nHow to apply for a summer research award or funding\nShould you register for a research-oriented course?\nHow to take part in an internship\nThinking outside the box!\n\nPizza and refreshments will be provided. Please register below to help us with guest count and dietary accommodations. \nRegister for the workshop here!  \nQuestions? Please email Jennifer Banh at URIE@engineering.utoronto.ca. \nEvent Details\nDate: Tuesday\, November 21\, 2023\nTime: 6 to 7 p.m.\nLocation: GB202 (Galbraith Building Room 202\, 35 St. George St.\, 2nd floor)
URL:https://undergrad.engineering.utoronto.ca/event/research-opportunity-workshop/
LOCATION:Galbraith Building Room 202 (GB202)\, 35 St. George St
ORGANIZER;CN="Undergraduate Research and International Experience Coordinator":MAILTO:URIE@engineering.utoronto.ca
END:VEVENT
END:VCALENDAR